BEGIN:VCALENDAR
VERSION:2.0
PRODID:-//Anadolu Moskee//Events//NL
CALSCALE:GREGORIAN
METHOD:PUBLISH
BEGIN:VEVENT
UID:event-24952@anadolumoskee.nl
DTSTAMP:20260420T080704Z
DTSTART;TZID=Europe/Amsterdam:20260308T183900
DTEND;TZID=Europe/Amsterdam:20260308T190000
SUMMARY:Iftar Maaltijd
DESCRIPTION:Gezamenlijke iftar voor de hele gemeenschap.
LOCATION:Grote zaal
URL:https://anadolumoskee.nl/events/iftar-maaltijd-9/
END:VEVENT
END:VCALENDAR
